BEGIN:VCALENDAR
PRODID:NingEventWidget-v1
VERSION:2.0
METHOD:PUBLISH
BEGIN:VEVENT
UID:2622461:Event:20103
DTSTAMP:20260420T074930Z
SUMMARY:Untold Season V
DESCRIPTION:Untold arrives in Season V to join the London Design Festi
 val again, in celebration of the electrifying creativity that exists w
 ithin design and fashion in London today- these stories will be Told.\
 n\nThis season Untold takes residence in the quaint and historic Borou
 gh of Kensington & Chelsea with the event spanning two locations, desi
 gners and creatives will be able to extol the virtues of both salon se
 ssions and designers fashion market and lounge.\n\nMonday 21st Septemb
 er 2009 is the date selected; the format remains the same although the
  event has evolved to encapsulate the aspect of making creativity prof
 itable which often proves the biggest challenge for creatives.\n\nEnsu
 e our collaboration with Creative Fruits to bring you Moordesign: The 
 design salon. Two salon sessions will run during the day housed at The
  Victoria & Albert Museums Sackler Centre, the panel will feature indu
 stry speakers from the world of fashion and business who will explore 
 various themes providing tips on how to solve the challenges designers
  and creatives may face. Past and present designers from Untold will h
 ave an opportunity to participate in these panel discussions.\n\nThe U
 ntold Boutique and Lounge arrives at The Kensington Rooms for one day 
 only; specially invited press, industry and buyers will be welcomed to
  the designer lounge- an eclectic mix of catwalk shows, exhibition & c
 ocktail lounge, an oasis of calm amidst the excitement and bustle of L
 ondon Fashion Week. A stones throw from London’s Earls Court and Ken
 sington areas, this will be the place to be seen. With workshops held 
 at the V&A Sackler Centre, Fashion lounge and Boutique a short walk aw
 ay at The Kensington Rooms, Untold will again provide an innovative an
 d creative platform from which these creative stories will be Told.\n\
 nDesigners, Artists, Creatives, is your story Untold?\n\nUntold return
 s to its exciting 5th season, with several solid shows under our belt 
 we intend to turn up the volume this season to ensure no story is left
  unheard. The venue is as ever quirky in true Untold style, conducive 
 with telling the stories of the talented and dynamic creative’s who 
 join us on this journey. The audience will again be invited to ‘sit 
 back and watch as the story is Told…’ Expressions of interest now 
 invited, also available are opportunities for experience, students, gr
 aduates, or fashion lovers, if you have always wanted a behind the sce
 nes glimpse this may be your opportunity.\n\nFor more information visi
 t https://ethicalfashionforum.ning.com/events/untold-season-v
DTSTART:20090921T130000Z
DTEND:20090921T223000Z
CATEGORIES:london, fashion, week, show
LOCATION:Kensington Rooms, Cromwell Road / Victoria & Albert Museum
WEBSITE:http://www.un-told.co.uk
URL:http://www.un-told.co.uk
CONTACT:07972 872 006
ORGANIZER;CN="Maame Baryeh":https://ethicalfashionforum.ning.com/profi
 le/MaameBaryeh
ATTACH;FMTTYPE="image/jpeg":http://storage.ning.com/topology/rest/1.0/
 file/get/2021361898?profile=original
ATTENDEE;ROLE=REQ-PARTICIPANT;PARTSTAT=ACCEPTED;RSVP=TRUE;CN="Nana Fos
 u":https://ethicalfashionforum.ning.com/profile/NanaFosu
ATTENDEE;ROLE=REQ-PARTICIPANT;PARTSTAT=ACCEPTED;RSVP=TRUE;CN="Katie Ha
 rt":https://ethicalfashionforum.ning.com/profile/KatieHart
ATTENDEE;ROLE=REQ-PARTICIPANT;PARTSTAT=ACCEPTED;RSVP=TRUE;CN="Anrette 
 Ngafor":https://ethicalfashionforum.ning.com/profile/AnretteNagfor
ATTENDEE;ROLE=REQ-PARTICIPANT;PARTSTAT=ACCEPTED;RSVP=TRUE;CN="Maame Ba
 ryeh":https://ethicalfashionforum.ning.com/profile/MaameBaryeh
ATTENDEE;ROLE=REQ-PARTICIPANT;PARTSTAT=TENTATIVE;RSVP=TRUE;CN="andrea 
 ojerinola":https://ethicalfashionforum.ning.com/profile/andreaojerinol
 a
ATTENDEE;ROLE=REQ-PARTICIPANT;PARTSTAT=TENTATIVE;RSVP=TRUE;CN="Ida Hor
 ner":https://ethicalfashionforum.ning.com/profile/IdaHorner
ATTENDEE;ROLE=REQ-PARTICIPANT;PARTSTAT=TENTATIVE;RSVP=TRUE;CN=jacqueli
 ne:https://ethicalfashionforum.ning.com/profile/jacqueline
END:VEVENT
END:VCALENDAR
