BEGIN:VCALENDAR
PRODID:NingEventWidget-v1
VERSION:2.0
METHOD:PUBLISH
BEGIN:VEVENT
UID:2622461:Event:41708
DTSTAMP:20260423T014100Z
SUMMARY:Aveda Earth Month Pamper Party
DESCRIPTION:help us to make a difference on April 22... in style...\n\
 nEvery person on this planet deserves clean water! Support Aveda Earth
  Month 2010 and attend our pamper party with our planet in mind! All p
 roceeds go directly to charity.\n\nWhen: Thursday April 22nd from 6pm-
 9pm\nWhere: Gina Conway, 21/23 Wimbledon Hill Rd, SW19 7NE\nWhat: £1 
 Mini Mani's, £1 Hair Up's, £1 Stress Relief Massages, Aveda Product 
 Offers\n\nAll additional £1 raffle donations will be automatically en
 tered into the draw to win a lush 2 night premier weekend stay at the 
 5* London Swissotel worth an amazing £600!!\n________________________
 ________________________________\n\nRSVP NOW on email to Victoire on p
 rassistant@ginaconway.co.uk, call us on 020 8090 5818 or text 07507844
 979 with names of guests and an email address to confirm.\n\nFor more 
 information visit https://ethicalfashionforum.ning.com/events/aveda-ea
 rth-month-pamper-party
DTSTART:20100422T180000Z
DTEND:20100422T210000Z
CATEGORIES:charity, fundraiser, party
LOCATION:Gina Conway Aveda Lifestyle Salon and Spa Wimbledon
WEBSITE:http://www.ginaconway.co.uk
URL:http://www.ginaconway.co.uk
CONTACT:020 8090 5818
ORGANIZER;CN="Gina Conway Aveda Salon and Spas":https://ethicalfashion
 forum.ning.com/profile/AlexisFenton
ATTACH;FMTTYPE="image/jpeg":http://storage.ning.com/topology/rest/1.0/
 file/get/2021378272?profile=original
ATTENDEE;ROLE=REQ-PARTICIPANT;PARTSTAT=ACCEPTED;RSVP=TRUE;CN=Elizabeth
 -Jade:https://ethicalfashionforum.ning.com/profile/ElizabethJade
ATTENDEE;ROLE=REQ-PARTICIPANT;PARTSTAT=ACCEPTED;RSVP=TRUE;CN="Suki Sam
 ra":https://ethicalfashionforum.ning.com/profile/SuzySam
ATTENDEE;ROLE=REQ-PARTICIPANT;PARTSTAT=ACCEPTED;RSVP=TRUE;CN="Gina Con
 way Aveda Salon and Spas":https://ethicalfashionforum.ning.com/profile
 /AlexisFenton
END:VEVENT
END:VCALENDAR
